BEGIN:VCALENDAR
VERSION:2.0
PRODID:-//OpenAI//Bedrijvenroute Zwijndrecht//NL
CALSCALE:GREGORIAN
METHOD:PUBLISH
BEGIN:VTIMEZONE
TZID:Europe/Amsterdam
X-LIC-LOCATION:Europe/Amsterdam
BEGIN:DAYLIGHT
TZOFFSETFROM:+0100
TZOFFSETTO:+0200
TZNAME:CEST
DTSTART:19700329T020000
RRULE:FREQ=YEARLY;BYMONTH=3;BYDAY=-1SU
END:DAYLIGHT
BEGIN:STANDARD
TZOFFSETFROM:+0200
TZOFFSETTO:+0100
TZNAME:CET
DTSTART:19701025T030000
RRULE:FREQ=YEARLY;BYMONTH=10;BYDAY=-1SU
END:STANDARD
END:VTIMEZONE
BEGIN:VEVENT
UID:bedrijvenroute-zwijndrecht-20260506@openai
DTSTAMP:20260318T120000Z
DTSTART;TZID=Europe/Amsterdam:20260506T090000
DTEND;TZID=Europe/Amsterdam:20260506T120000
SUMMARY:Bedrijvenroute Zwijndrecht
DESCRIPTION:Bedrijvenroute Zwijndrecht.. Leerlingen bezoeken bedrijven in twee rondes (09:00–10:00 en 11:00–12:00).. Groepen komen met begeleiding langs op locatie.. Vervoer wordt geregeld door de organisatie.. Ontvang per ronde een groep leerlingen en geef een korte kennismaking met het bedrijf.
STATUS:CONFIRMED
TRANSP:OPAQUE
END:VEVENT
END:VCALENDAR
